BEGIN:VCALENDAR
VERSION:2.0
PRODID:-//OCV De Kadolstermennekes - ECPv6.8.3//NONSGML v1.0//EN
CALSCALE:GREGORIAN
METHOD:PUBLISH
X-WR-CALNAME:OCV De Kadolstermennekes
X-ORIGINAL-URL:https://dekadolstermennekes.nl
X-WR-CALDESC:Evenementen voor OCV De Kadolstermennekes
REFRESH-INTERVAL;VALUE=DURATION:PT1H
X-Robots-Tag:noindex
X-PUBLISHED-TTL:PT1H
BEGIN:VTIMEZONE
TZID:Europe/Amsterdam
BEGIN:DAYLIGHT
TZOFFSETFROM:+0100
TZOFFSETTO:+0200
TZNAME:CEST
DTSTART:20220327T010000
END:DAYLIGHT
BEGIN:STANDARD
TZOFFSETFROM:+0200
TZOFFSETTO:+0100
TZNAME:CET
DTSTART:20221030T010000
END:STANDARD
BEGIN:DAYLIGHT
TZOFFSETFROM:+0100
TZOFFSETTO:+0200
TZNAME:CEST
DTSTART:20230326T010000
END:DAYLIGHT
BEGIN:STANDARD
TZOFFSETFROM:+0200
TZOFFSETTO:+0100
TZNAME:CET
DTSTART:20231029T010000
END:STANDARD
END:VTIMEZONE
BEGIN:VEVENT
DTSTART;TZID=Europe/Amsterdam:20230119T190000
DTEND;TZID=Europe/Amsterdam:20230119T223000
DTSTAMP:20260422T035554
CREATED:20221222T120655Z
LAST-MODIFIED:20230119T123922Z
UID:52517-1674154800-1674167400@dekadolstermennekes.nl
SUMMARY:Kaartverkoop Kadolstergala
DESCRIPTION:Kaartverkoop Kadolstergala\nEen super leuke avond met live muziek en de gelegenheid om een drankje te nuttigen in het voorcafé van Rouwhorst. Hoewel de uiteindelijke kaartverkoop aan tijdslots is gebonden (gebaseerd op je lotingsnummer dat op je lidmaatschapskaart is terug te vinden)\, kun je gewoon op tijd langs komen en genieten van de gezelligheid en live muziek. \nBij deze voorverkoop-avond word je in de gelegenheid gesteld om zelf een stoel/tafel te reserveren (uiteraard op basis van je lotings nummer / tijdslot). Kom gezellig langs op deze avond voor de Kadolstergala Kaartverkoop! \nHieronder een overzicht van welke lotingsnummers in welk tijdslot kaarten voor het Kadolstergala kunnen kopen. Je vind je lotingsnummer in de brief met de ledenpas die reeds is verzonden\, je kunt ook de QR code op je ledenpasgebruiken en zo het lotingsnummer achterhalen. Je lidmaatschapsnummer is NIET je lotingsnummer! \nOm je lotingsnummer te achterhalen richt je de camera van je smartphone op de QR code aan de voorzijde van je ledenpas. Je kunt dan een pagina openen en deze zal je je persoonlijke lotingsnummer tonen! Je lotingsnummer is vanaf heden ook beschikbaar in je “Mijn Kadolster” omgeving. \n\n\n\n\nLOTINGSNUMMERS\nTIJDSLOT\n\n\n1 – 50\n19.00 – 19.20 uur\n\n\n51 –  100\n19.20 – 19.40 uur\n\n\n101 – 175\n19.40 – 20.00 uur\n\n\n176 – 250\n20.00 – 20.20 uur\n\n\n251 – 350\n20.20 – 20.40 uur\n\n\n351 – 500\n20 40 – 21.00 uur\n\n\n501 –  850\n21.00 – 21.30 uur\n\n\n851 – 1100\n21.30 – 22.00 uur\n\n\n\n\nDe prijs voor een kaartje voor het Kadolstergala\nbedraagt voor Honoraire leden € 20\nbij voorkeur met PIN betalen!\n \n\n\nVerkoop van kaarten aan niet leden geschiedt enkel indien er nog kaarten voorradig zijn na de verkoopavonden voor honoraire leden.
URL:https://dekadolstermennekes.nl/feest/kaartverkoop-kadolstergala/
LOCATION:Partycentrum Rouwhorst\, Ootmarsumsestraat 9\, Oldenzaal\, 7572 AA
ORGANIZER;CN="OCV De Kadolstermennekes - Financiele commissie":MAILTO:financielecommissie@dekadolstermennekes.nl
END:VEVENT
BEGIN:VEVENT
DTSTART;TZID=Europe/Amsterdam:20221112T203000
DTEND;TZID=Europe/Amsterdam:20221113T000000
DTSTAMP:20260422T035554
CREATED:20160719T190452Z
LAST-MODIFIED:20221215T090823Z
UID:64-1668285000-1668297600@dekadolstermennekes.nl
SUMMARY:LEEDKESFESTIVAL
DESCRIPTION:De elfde van de elfde en het Leedkesfestival. Het is een beetje als oud en nieuw. Oud\, omdat we afscheid nemen van de Stadsprins en zijn sik. En nieuw\, omdat het carnavalslied van het komende seizoen al weer wordt gekozen. Eindelijk ‘mogen’ we de kiel weer aan en komt dat bijzondere carnavalsgevoel weer boven. Zorg dus dat je erbij bent! De aanvangstijden zijn\, ivm vervroegde sluiting horeca\, een uur eerder dan je gewend bent. Zaal open 20:30 uur\, start programma 21:30 uur. (Afterparty met Dj Benn)
URL:https://dekadolstermennekes.nl/feest/elfde-van-de-elfde-leedkesfestival/
LOCATION:Dans- en Partycentrum Rouwhorst
ORGANIZER;CN="OCV De Kadolstermennekes - Feestcommissie":MAILTO:feestcommissie@dekadolstermennekes.nl
END:VEVENT
END:VCALENDAR