BEGIN:VCALENDAR
VERSION:2.0
PRODID:-//OCV De Kadolstermennekes - ECPv6.8.3//NONSGML v1.0//EN
CALSCALE:GREGORIAN
METHOD:PUBLISH
X-ORIGINAL-URL:https://dekadolstermennekes.nl
X-WR-CALDESC:Evenementen voor OCV De Kadolstermennekes
REFRESH-INTERVAL;VALUE=DURATION:PT1H
X-Robots-Tag:noindex
X-PUBLISHED-TTL:PT1H
BEGIN:VTIMEZONE
TZID:Europe/Amsterdam
BEGIN:DAYLIGHT
TZOFFSETFROM:+0100
TZOFFSETTO:+0200
TZNAME:CEST
DTSTART:20260329T010000
END:DAYLIGHT
BEGIN:STANDARD
TZOFFSETFROM:+0200
TZOFFSETTO:+0100
TZNAME:CET
DTSTART:20261025T010000
END:STANDARD
END:VTIMEZONE
BEGIN:VEVENT
DTSTART;TZID=Europe/Amsterdam:20260214T121100
DTEND;TZID=Europe/Amsterdam:20260214T130000
DTSTAMP:20260422T020028
CREATED:20230209T181823Z
LAST-MODIFIED:20260206T075107Z
UID:53077-1771071060-1771074000@dekadolstermennekes.nl
SUMMARY:Carnavals Viering
DESCRIPTION:Het Oldenzaalse carnavalsweekend wordt dit jaar op ‘Slöttelzoaterdag” 14 februari op een wel zeer bijzondere wijze geopend. O.C.V. De Kadolstermennekes organiseert namelijk een unieke Carnavalsviering in de Plechelmusbasiliek. \nOm 12:11 uur opent Pastoor Reerink de carnavalsviering en worden de stadsprins en zijn gevolg binnengehaald\, onder begeleiding van de hofkapel De Kopperbloazers. Naast de Pastoor zullen Stadsprins en Vorst Valtiens X enkele mooie woorden tot de gemeenschap richten en zorgen De Kopperbloazers voor de nodige koperen klanken
URL:https://dekadolstermennekes.nl/feest/carnavals-viering/
LOCATION:Plechelmusbasiliek\, Sint Plechelmusplein 10\, Oldenzaal\, 7571 EG\, Nederland
ATTACH;FMTTYPE=image/jpeg:https://dekadolstermennekes.nl/wp01/wp-content/uploads/2023/02/67c418cb08266_is8a0382-2880x1920-1-scaled.jpg
ORGANIZER;CN="OCV De Kadolstermennekes - Feestcommissie":MAILTO:feestcommissie@dekadolstermennekes.nl
END:VEVENT
BEGIN:VEVENT
DTSTART;TZID=Europe/Amsterdam:20260214T134500
DTEND;TZID=Europe/Amsterdam:20260214T160000
DTSTAMP:20260422T020028
CREATED:20260204T142124Z
LAST-MODIFIED:20260204T142124Z
UID:55999-1771076700-1771084800@dekadolstermennekes.nl
SUMMARY:Sleuteloverdracht
DESCRIPTION:Het moment waar iedere stadsprins reikhalzend naar uitkijkt is daar: de sleuteloverdracht van de Boeskoolstad! Burgemeester Patrick Welman doet symbolisch een stapje terug en overhandigt de sleutel aan de stadsprins – hét officiële startsein van de Dree Dolle Daag’n. Verwacht een feestelijk programma waarin alle hoogheden zich presenteren\, een klinkende serenade door de tent galmt en natuurlijk… het eerste vat wordt aangeslagen. Kom meeproeven van de sfeer en de gezelligheid en beleef samen het begin van een onvergetelijk feest!
URL:https://dekadolstermennekes.nl/feest/sleuteloverdracht/
LOCATION:Tent Ganzenmarkt\, Ganzenmarkt\, Oldenzaal\, Overijssel\, 7571 CD
ATTACH;FMTTYPE=image/jpeg:https://dekadolstermennekes.nl/wp01/wp-content/uploads/2026/02/67c418d7a8a1b_is8a0561-2880x1920-1-scaled.jpg
END:VEVENT
BEGIN:VEVENT
DTSTART;TZID=Europe/Amsterdam:20260214T160000
DTEND;TZID=Europe/Amsterdam:20260214T230000
DTSTAMP:20260422T020028
CREATED:20230209T230011Z
LAST-MODIFIED:20251015T115818Z
UID:31289-1771084800-1771110000@dekadolstermennekes.nl
SUMMARY:Slöttelzoaterdag
DESCRIPTION:Deze receptie is uitgegroeid tot een daverend feest met live muziek in de grote zaal\, het voorcafé en de kelder van Rouwhorst. De zaterdagmiddag is de start van de drie dolle dagen in een gezellige sfeer van “Boeskoolleu oonder meka”. De muzikale omlijsting is er eentje om te lijsten: Met optredens van Falsch und Verrückt\, Ronnie Ruysdael & DJ Rob Toonen is dit de enige plek waar je moet zijn. \n(leden en sponsoren kunnen de tickets met gereduceerd tarief of gratis t.z.t. vinden via hun account onder “Mijn Kadolster”) \nBESTEL JE TICKETS\nBij alle kadolsterfeesten is het verplicht een (digitaal) entreebewijs te overhandigen. De toegangskaarten kunnen online worden besteld via het online ticketing systeem “mijnetickets.shop”. Honoraire en werkende leden van OCV De Kadolstermennekes ontvangen per email een bericht met gepersonalisdeerde bestel-linkjes welke aansluiten bij de entreekosten voor deze groepen leden. De bestel-linkjes zijn ook terug te vinden in je persoonlijke Mijn Kadolster account. Ook voor feesten welke gratis zijn voor (werkende en/of honoraire) leden dienen entreebewijzen te worden overhandigd bij het betreden van de zaal. Zorg dat je altijd een toegangsbewijs in je bezit hebt als je een kadolsterfeest bezoekt. Voor niet leden of het bestellen van extra toegangsbewijzen\, dienen kaarten te worden aangeschaft via nevenstaande button. Bestel je ticket(s) via de blauwe button. \nPrijs voor leden: Gratis\nPrijs voor Niet leden: € 6\,- \nBESTEL JE TICKETS
URL:https://dekadolstermennekes.nl/feest/slottelzoaterdag/
LOCATION:Partycentrum Rouwhorst\, Ootmarsumsestraat 9\, Oldenzaal\, 7572 AA
ATTACH;FMTTYPE=image/jpeg:https://dekadolstermennekes.nl/wp01/wp-content/uploads/2023/02/67c396c0ab4de_slottelzoaterdag-1903.jpg
ORGANIZER;CN="OCV De Kadolstermennekes - Feestcommissie":MAILTO:feestcommissie@dekadolstermennekes.nl
END:VEVENT
BEGIN:VEVENT
DTSTART;TZID=Europe/Amsterdam:20260215T123000
DTEND;TZID=Europe/Amsterdam:20260215T170000
DTSTAMP:20260422T020028
CREATED:20230210T230003Z
LAST-MODIFIED:20251015T140104Z
UID:794-1771158600-1771174800@dekadolstermennekes.nl
SUMMARY:GROTE TWENTSE CARNAVALSOPTOCHT
DESCRIPTION:Optocht Oldenzaal. Carnaval in Oldenzaal is al vele tientallen jaren lang een bijzonder begrip in Twente en ver daarbuiten. Eén van de hoogtepunten van het Carnaval boven de grote rivieren is de optocht van de Boeskoolstad Oldenzaal. \nElk jaar weer trekt de Grote Twentse Carnavalsoptocht ruim 100.000 bezoekers naar de Boeskoolstad. En niet voor niets! De “Ooh’s” en “Aaah’s” zijn niet van de lucht als de tientallen indrukwekkende praalwagens en vele andere creatieve uitingen van de dolenthousiaste honderden deelnemers als één groot\, kleurrijk slingerend lint door de binnenstad van Oldenzaal trekken. Dit jaar is er op de Ganzenmarkt een openbaar\, overdekt gedeelte vanwaar de optocht kan worden bekeken en waar de prijsuitreiking zal plaatsvinden. \nKom je met het openbaar vervoer? Maak dan vooral gebruik van de trein\, aangezien er veel omleidingen zijn voor busvervoer. \nDe Grote Twentse Carnavalsoptocht: kilometers lang genieten. En u staat op de 1e rij!! \nDe Grote Twentse Carnavalsoptocht in Oldenzaal wordt vastgelegd door RTV Oost.
URL:https://dekadolstermennekes.nl/feest/optocht-oldenzaal/
LOCATION:Stadscentrum Oldenzaal\, Oldenzaal\, Overijssel\, Nederland
ATTACH;FMTTYPE=image/jpeg:https://dekadolstermennekes.nl/wp01/wp-content/uploads/2023/02/67c4d19043ab1_grote-twentse-carnavalsoptocht-2038.jpg
ORGANIZER;CN="OCV De Kadolstermennekes - Optochtcommissie":MAILTO:optochtcommissie@dekadolstermennekes.nl
END:VEVENT
BEGIN:VEVENT
DTSTART;TZID=Europe/Amsterdam:20260215T180000
DTEND;TZID=Europe/Amsterdam:20260216T010000
DTSTAMP:20260422T020028
CREATED:20230210T230044Z
LAST-MODIFIED:20260211T180718Z
UID:48480-1771178400-1771203600@dekadolstermennekes.nl
SUMMARY:Zotte Zondag
DESCRIPTION:Een geweldig feest en de ideale plek om een mooi feestje te bouwen na afloop van de Grote Twentse Carnavalsoptocht! Met de beste feest dj’s uit Twente wordt het één groot feest. Of beter gezegd; de afterparty van de optocht! \nEntree prijzen\nEntree n iet leden: € 11\,11\nHonoraire leden: € 7\,50\nWerkende leden/oetbloazers/sponsors: gratis. \nLet op\, iedereen dient in het bezit te zijn van een toegangsbewijs (e-ticket)\, Honoraire en werkende leden kunnen via de Kadolsterapp of “Mijn Kadolster” hun tickets te claimen!  \nLeeftijd 16+ \nBESTEL JE TICKETS\nBij alle kadolsterfeesten is het verplicht een (digitaal) entreebewijs te overhandigen. De toegangskaarten kunnen online worden besteld via het online ticketing systeem “mijnetickets.shop”. Honoraire en werkende leden van OCV De Kadolstermennekes kunnen via de Kadolsterapp of hun “Mijn Kadolster” account tickets claimen/bestellen. Ook voor feesten welke gratis zijn voor (werkende en/of honoraire) leden dienen entreebewijzen te worden overhandigd bij het betreden van de zaal. Zorg dat je altijd een toegangsbewijs in je bezit hebt als je een kadolsterfeest bezoekt. Voor niet leden of het bestellen van extra toegangsbewijzen\, dienen kaarten te worden aangeschaft via nevenstaande button. Bestel je ticket(s) via de blauwe button. \nBESTEL JE TICKETS
URL:https://dekadolstermennekes.nl/feest/zotte-zondag/
LOCATION:Partycentrum Rouwhorst\, Ootmarsumsestraat 9\, Oldenzaal\, 7572 AA
ATTACH;FMTTYPE=image/jpeg:https://dekadolstermennekes.nl/wp01/wp-content/uploads/2023/02/67c3968be7761_slottelzoaterdag-1795.jpg
ORGANIZER;CN="OCV De Kadolstermennekes - Feestcommissie":MAILTO:feestcommissie@dekadolstermennekes.nl
END:VEVENT
BEGIN:VEVENT
DTSTART;TZID=Europe/Amsterdam:20260216T123000
DTEND;TZID=Europe/Amsterdam:20260216T163000
DTSTAMP:20260422T020028
CREATED:20161128T230430Z
LAST-MODIFIED:20260211T195138Z
UID:799-1771245000-1771259400@dekadolstermennekes.nl
SUMMARY:Vernieuwde Kinderoptocht (‘t Grote Ol’nzelse Kuuk’n Festival)
DESCRIPTION:Dit jaar krijgt de kinderoptocht van Oldenzaal een vernieuwde vorm. Op maandag 16 februari 2026 organiseren we een feestelijke carnavalsoptocht voor én door de kleinsten\, die meer aandacht en beleving krijgt dan voorheen. Het wordt een kleine versie van de Grote Twentse Carnavalsoptocht: herkenbaar in traditie\, maar volledig afgestemd op de jongste carnavalsvierders. \nNaast alle deelnemende kinderen krijgt iedere basisschool dit jaar een mini-prinsenwagen\, speciaal gebouwd door de Technische Commissie van De Kadolstermennekes. Deze wagentjes worden kosteloos aangeboden\, zijn jaarlijks opnieuw te gebruiken en bieden een mooie plek voor de schoolprins(es) tijdens de optocht. De kar wordt tijdens de optocht\, onder begeleiding\, voortgetrokken door klasgenoten\, vriendjes en vriendinnetjes. \nDe Kinderoptocht is een volwaardige carnavalsoptocht op kinderformaat\, met ruimte voor eigen invulling en creativiteit. Denk aan meelopen als groep\, het kiezen van een thema of het inzetten van een kleine creatie of kar. Meer informatie over de opzet van de optocht en deelnamevormen is te vinden via: dekadolstermennekes.nl/kinderoptocht/ \nJe kunt ook meelopen zonder je van tevoren op te geven\, maar je moet dan wel achter alle aangemelde deelnemers lopen. Als je je niet vooraf hebt opgegeven kun je wel een medaille ophalen aan het eind maar maak je helaas geen kans op de prijzen. Iedereen is welkom en geniet van deze nieuwe Kinderoptocht voor en door de kinderen van in en om de Boeskoolstad.
URL:https://dekadolstermennekes.nl/feest/kinderoptocht/
LOCATION:Stadscentrum Oldenzaal\, Oldenzaal\, Overijssel\, Nederland
ATTACH;FMTTYPE=image/jpeg:https://dekadolstermennekes.nl/wp01/wp-content/uploads/2016/11/67c5cd8f9efc5_248kinderoptocht.jpeg
ORGANIZER;CN="OCV De Kadolstermennekes - Optochtcommissie":MAILTO:optochtcommissie@dekadolstermennekes.nl
END:VEVENT
BEGIN:VEVENT
DTSTART;TZID=Europe/Amsterdam:20260216T143000
DTEND;TZID=Europe/Amsterdam:20260216T170000
DTSTAMP:20260422T020028
CREATED:20260209T180418Z
LAST-MODIFIED:20260209T180534Z
UID:56035-1771252200-1771261200@dekadolstermennekes.nl
SUMMARY:Kuuk'n Festival - Kindermiddag in de tent bij Rouwhorst
DESCRIPTION:Geniet nog even samen met de kids. Na de Kinderoptocht is het uitermate goed toeven voor zowel de ouders als de kinderen bij Partycentrum Rouwhorst. Er zijn verschillende activiteiten en heerlijke gratis chips\, knakworsten en ranja voor de boefjes. \nVan 15:00 tot 17:00 draait DJ Blijwin in de feesttent de hits voor kids. Voor de ouders die niet in de tent willen staan hebben we een onderkomen in de oude aerobiczaal. Kom samen met je kinderen naar Rouwhorst en geniet van het Kuuk’n Festival.
URL:https://dekadolstermennekes.nl/feest/kuukn-festival-kindermiddag-in-de-tent-bij-rouwhorst/
LOCATION:Dans- en Partycentrum Rouwhorst
ATTACH;FMTTYPE=image/jpeg:https://dekadolstermennekes.nl/wp01/wp-content/uploads/2026/01/65cb68c24d1be_kuukn-festival-2024-5550.jpg
ORGANIZER;CN="OCV De Kadolstermennekes - Feestcommissie":MAILTO:feestcommissie@dekadolstermennekes.nl
END:VEVENT
BEGIN:VEVENT
DTSTART;TZID=Europe/Amsterdam:20260216T170000
DTEND;TZID=Europe/Amsterdam:20260216T213000
DTSTAMP:20260422T020028
CREATED:20250226T203122Z
LAST-MODIFIED:20260204T142300Z
UID:55155-1771261200-1771277400@dekadolstermennekes.nl
SUMMARY:Rosenmontagbal
DESCRIPTION:Na de gezellige kindermiddag gooien we het roer om en verbouwen we de tent voor een avond vol muziek\, dans en carnaval! \nDe PPM Showband\, Martin Akoné en Ronald Meijer zorgen voor een spetterende liveshow waarbij de voetjes gegarandeerd van de vloer gaan. We trekken nog één keer alle registers open en maken er een geweldig feest van waarbij er na het feest nog genoeg tijd over blijft om nog een deurtje verder te gaan. Het feest gaat door tot ongeveer 21:30 uur. De entree is gratis!
URL:https://dekadolstermennekes.nl/feest/t-grote-olnzelse-kuukn-festival-avondprogramma/
LOCATION:Tent Rouwhorst\, Ootmarsumsestraat 9\,\, Oldenzaal\, 7572 AA
ATTACH;FMTTYPE=image/jpeg:https://dekadolstermennekes.nl/wp01/wp-content/uploads/2025/02/67958e73d0f7c_166bestand.jpeg
ORGANIZER;CN="OCV De Kadolstermennekes - Feestcommissie":MAILTO:feestcommissie@dekadolstermennekes.nl
END:VEVENT
BEGIN:VEVENT
DTSTART;TZID=Europe/Amsterdam:20260216T190000
DTEND;TZID=Europe/Amsterdam:20260217T020000
DTSTAMP:20260422T020028
CREATED:20180115T200911Z
LAST-MODIFIED:20260211T175325Z
UID:32969-1771268400-1771293600@dekadolstermennekes.nl
SUMMARY:Carnaval Dendert Deur
DESCRIPTION:De feestcommissie van De Kadolstermennekes organiseert samen met O.J.C.V. De Blaanke Boeskeulkes een knalfeest dat je niet wilt missen! Met topartiesten als Jannes\, Danny Panadero en de K3 Tribute ‘Alle Kleuren’ wordt het één groot feest voor jong en oud. Verwacht volop gezelligheid\, feestgedruis en natuurlijk: confetti gegarandeerd! \nEntree prijzen\nEntree niet leden: € 15\,00\nHonoraire leden: € 7\,50\nWerkende leden/oetbloazers/sponsors: gratis.\n(leden en sponsoren kunnen de tickets met gereduceerd tarief of gratis t.z.t. vinden via hun account onder “Mijn Kadolster” of via De Kadolsterapp) \nLet op\, iedereen dient in het bezit te zijn van een toegangsbewijs (e-ticket)\, Honoraire en werkende leden kunnen via de kadolsterapp of  “Mijn Kadolster” hun tickets claimen! \nLeeftijd 16+
URL:https://dekadolstermennekes.nl/feest/rosenmontagbal-carnaval-dendert/
LOCATION:Dans- en Partycentrum Rouwhorst
ATTACH;FMTTYPE=image/jpeg:https://dekadolstermennekes.nl/wp01/wp-content/uploads/2018/01/Carnaval-Dendert-Door.jpg
ORGANIZER;CN="OCV De Kadolstermennekes - Feestcommissie":MAILTO:feestcommissie@dekadolstermennekes.nl
END:VEVENT
BEGIN:VEVENT
DTSTART;TZID=Europe/Amsterdam:20260217T193000
DTEND;TZID=Europe/Amsterdam:20260217T210000
DTSTAMP:20260422T020028
CREATED:20230212T230008Z
LAST-MODIFIED:20251015T140327Z
UID:802-1771356600-1771362000@dekadolstermennekes.nl
SUMMARY:BOKVERBRANDEN
DESCRIPTION:Bokverbranden\, het einde van het carnavalsweekend. \nAan alles komt een eind en dus helaas ook aan het Oldenzaalse carnaval. In de Boeskoolstad “vieren” we dat ritueel en traditioneel met het verbranden van een bok aan de voet van de Plechelmustoren. \nMaar niet voordat de Stadsprins de sleutel weer heeft teruggegeven aan de burgemeester en de stadhuishal bol heeft gestaan van de koperklanken van de vele blaaskapellen.
URL:https://dekadolstermennekes.nl/feest/bokverbranden/
LOCATION:Stadscentrum Oldenzaal\, Oldenzaal\, Overijssel\, Nederland
ATTACH;FMTTYPE=image/jpeg:https://dekadolstermennekes.nl/wp01/wp-content/uploads/2023/02/67c76d02d80fe_is8a1524-2880x1920-1-scaled.jpg
ORGANIZER;CN="OCV De Kadolstermennekes - Feestcommissie":MAILTO:feestcommissie@dekadolstermennekes.nl
END:VEVENT
END:VCALENDAR