BEGIN:VCALENDAR
VERSION:2.0
PRODID:-//OCV De Kadolstermennekes - ECPv6.8.3//NONSGML v1.0//EN
CALSCALE:GREGORIAN
METHOD:PUBLISH
X-ORIGINAL-URL:https://dekadolstermennekes.nl
X-WR-CALDESC:Evenementen voor OCV De Kadolstermennekes
REFRESH-INTERVAL;VALUE=DURATION:PT1H
X-Robots-Tag:noindex
X-PUBLISHED-TTL:PT1H
BEGIN:VTIMEZONE
TZID:Europe/Amsterdam
BEGIN:DAYLIGHT
TZOFFSETFROM:+0100
TZOFFSETTO:+0200
TZNAME:CEST
DTSTART:20260329T010000
END:DAYLIGHT
BEGIN:STANDARD
TZOFFSETFROM:+0200
TZOFFSETTO:+0100
TZNAME:CET
DTSTART:20261025T010000
END:STANDARD
END:VTIMEZONE
BEGIN:VEVENT
DTSTART;TZID=Europe/Amsterdam:20260215T123000
DTEND;TZID=Europe/Amsterdam:20260215T170000
DTSTAMP:20260421T183124
CREATED:20230210T230003Z
LAST-MODIFIED:20251015T140104Z
UID:794-1771158600-1771174800@dekadolstermennekes.nl
SUMMARY:GROTE TWENTSE CARNAVALSOPTOCHT
DESCRIPTION:Optocht Oldenzaal. Carnaval in Oldenzaal is al vele tientallen jaren lang een bijzonder begrip in Twente en ver daarbuiten. Eén van de hoogtepunten van het Carnaval boven de grote rivieren is de optocht van de Boeskoolstad Oldenzaal. \nElk jaar weer trekt de Grote Twentse Carnavalsoptocht ruim 100.000 bezoekers naar de Boeskoolstad. En niet voor niets! De “Ooh’s” en “Aaah’s” zijn niet van de lucht als de tientallen indrukwekkende praalwagens en vele andere creatieve uitingen van de dolenthousiaste honderden deelnemers als één groot\, kleurrijk slingerend lint door de binnenstad van Oldenzaal trekken. Dit jaar is er op de Ganzenmarkt een openbaar\, overdekt gedeelte vanwaar de optocht kan worden bekeken en waar de prijsuitreiking zal plaatsvinden. \nKom je met het openbaar vervoer? Maak dan vooral gebruik van de trein\, aangezien er veel omleidingen zijn voor busvervoer. \nDe Grote Twentse Carnavalsoptocht: kilometers lang genieten. En u staat op de 1e rij!! \nDe Grote Twentse Carnavalsoptocht in Oldenzaal wordt vastgelegd door RTV Oost.
URL:https://dekadolstermennekes.nl/feest/optocht-oldenzaal/
LOCATION:Stadscentrum Oldenzaal\, Oldenzaal\, Overijssel\, Nederland
ATTACH;FMTTYPE=image/jpeg:https://dekadolstermennekes.nl/wp01/wp-content/uploads/2023/02/67c4d19043ab1_grote-twentse-carnavalsoptocht-2038.jpg
ORGANIZER;CN="OCV De Kadolstermennekes - Optochtcommissie":MAILTO:optochtcommissie@dekadolstermennekes.nl
END:VEVENT
BEGIN:VEVENT
DTSTART;TZID=Europe/Amsterdam:20260215T180000
DTEND;TZID=Europe/Amsterdam:20260216T010000
DTSTAMP:20260421T183124
CREATED:20230210T230044Z
LAST-MODIFIED:20260211T180718Z
UID:48480-1771178400-1771203600@dekadolstermennekes.nl
SUMMARY:Zotte Zondag
DESCRIPTION:Een geweldig feest en de ideale plek om een mooi feestje te bouwen na afloop van de Grote Twentse Carnavalsoptocht! Met de beste feest dj’s uit Twente wordt het één groot feest. Of beter gezegd; de afterparty van de optocht! \nEntree prijzen\nEntree n iet leden: € 11\,11\nHonoraire leden: € 7\,50\nWerkende leden/oetbloazers/sponsors: gratis. \nLet op\, iedereen dient in het bezit te zijn van een toegangsbewijs (e-ticket)\, Honoraire en werkende leden kunnen via de Kadolsterapp of “Mijn Kadolster” hun tickets te claimen!  \nLeeftijd 16+ \nBESTEL JE TICKETS\nBij alle kadolsterfeesten is het verplicht een (digitaal) entreebewijs te overhandigen. De toegangskaarten kunnen online worden besteld via het online ticketing systeem “mijnetickets.shop”. Honoraire en werkende leden van OCV De Kadolstermennekes kunnen via de Kadolsterapp of hun “Mijn Kadolster” account tickets claimen/bestellen. Ook voor feesten welke gratis zijn voor (werkende en/of honoraire) leden dienen entreebewijzen te worden overhandigd bij het betreden van de zaal. Zorg dat je altijd een toegangsbewijs in je bezit hebt als je een kadolsterfeest bezoekt. Voor niet leden of het bestellen van extra toegangsbewijzen\, dienen kaarten te worden aangeschaft via nevenstaande button. Bestel je ticket(s) via de blauwe button. \nBESTEL JE TICKETS
URL:https://dekadolstermennekes.nl/feest/zotte-zondag/
LOCATION:Partycentrum Rouwhorst\, Ootmarsumsestraat 9\, Oldenzaal\, 7572 AA
ATTACH;FMTTYPE=image/jpeg:https://dekadolstermennekes.nl/wp01/wp-content/uploads/2023/02/67c3968be7761_slottelzoaterdag-1795.jpg
ORGANIZER;CN="OCV De Kadolstermennekes - Feestcommissie":MAILTO:feestcommissie@dekadolstermennekes.nl
END:VEVENT
END:VCALENDAR