BEGIN:VCALENDAR
VERSION:2.0
PRODID:-//OCV De Kadolstermennekes - ECPv6.8.3//NONSGML v1.0//EN
CALSCALE:GREGORIAN
METHOD:PUBLISH
X-WR-CALNAME:OCV De Kadolstermennekes
X-ORIGINAL-URL:https://dekadolstermennekes.nl
X-WR-CALDESC:Evenementen voor OCV De Kadolstermennekes
REFRESH-INTERVAL;VALUE=DURATION:PT1H
X-Robots-Tag:noindex
X-PUBLISHED-TTL:PT1H
BEGIN:VTIMEZONE
TZID:Europe/Amsterdam
BEGIN:DAYLIGHT
TZOFFSETFROM:+0100
TZOFFSETTO:+0200
TZNAME:CEST
DTSTART:20260329T010000
END:DAYLIGHT
BEGIN:STANDARD
TZOFFSETFROM:+0200
TZOFFSETTO:+0100
TZNAME:CET
DTSTART:20261025T010000
END:STANDARD
END:VTIMEZONE
BEGIN:VEVENT
DTSTART;TZID=Europe/Amsterdam:20260208T130000
DTEND;TZID=Europe/Amsterdam:20260208T203000
DTSTAMP:20260421T220806
CREATED:20161128T224556Z
LAST-MODIFIED:20260107T140509Z
UID:786-1770555600-1770582600@dekadolstermennekes.nl
SUMMARY:KAPELLENFESTIVAL
DESCRIPTION:Tijdens het Kapellenfestival barst het van de muziek en gezelligheid. Wat ooit begon als een kleine blaaskapellenwedstrijd is uitgegroeid tot een grootschalig evenement waar carnavalsvierders uit heel Nederland op afkomen. Dit jaar strijden ruim 20 kapellen om de prijzen; jong en oud vergapen zich aan hun creatieve en muzikale talenten. \nMet de terugkeer van de populaire categorie Carnavalesk\, ouderwets in de tent! Dankzij twee podia wisselen de kapellen elkaar hier in hoog tempo af\, zodat er continu iets te beleven is. De categorie Muzikaal vindt plaats in de zaal bij Rouwhorst. Kortom: nen onmeunig mooien carnavalsdag als perfecte opmaat naar de dree dolle dagen die voor de deur staan. \nBESTEL JE TICKETS\nBij alle kadolsterfeesten is het verplicht een (digitaal) entreebewijs te overhandigen. De toegangskaarten kunnen online worden besteld via het online ticketing systeem “mijnetickets.shop” of via de KadolsterApp. Ook voor feesten welke gratis zijn voor (werkende en/of honoraire) leden dienen entreebewijzen te worden overhandigd bij het betreden van de zaal. Zorg dat je altijd een toegangsbewijs in je bezit hebt als je een kadolsterfeest bezoekt. Voor niet leden of het bestellen van extra toegangsbewijzen\, dienen kaarten te worden aangeschaft via nevenstaande button. Bestel je ticket(s) via de blauwe button. \nPrijs voor niet-leden: € 11\,11 \nBESTEL JE TICKETS
URL:https://dekadolstermennekes.nl/feest/kapellenfestival/
LOCATION:Partycentrum Rouwhorst\, Ootmarsumsestraat 9\, Oldenzaal\, 7572 AA
ATTACH;FMTTYPE=image/jpeg:https://dekadolstermennekes.nl/wp01/wp-content/uploads/2016/11/67a91c23cf868_kapellen-festival-0911.jpg
ORGANIZER;CN="OCV De Kadolstermennekes - Klingelbuuln":MAILTO:klingelbuuln@dekadolstermennekes.nl
END:VEVENT
END:VCALENDAR