BEGIN:VCALENDAR
VERSION:2.0
PRODID:-//OCV De Kadolstermennekes - ECPv6.8.3//NONSGML v1.0//EN
CALSCALE:GREGORIAN
METHOD:PUBLISH
X-WR-CALNAME:OCV De Kadolstermennekes
X-ORIGINAL-URL:https://dekadolstermennekes.nl
X-WR-CALDESC:Evenementen voor OCV De Kadolstermennekes
REFRESH-INTERVAL;VALUE=DURATION:PT1H
X-Robots-Tag:noindex
X-PUBLISHED-TTL:PT1H
BEGIN:VTIMEZONE
TZID:Europe/Amsterdam
BEGIN:DAYLIGHT
TZOFFSETFROM:+0100
TZOFFSETTO:+0200
TZNAME:CEST
DTSTART:20260329T010000
END:DAYLIGHT
BEGIN:STANDARD
TZOFFSETFROM:+0200
TZOFFSETTO:+0100
TZNAME:CET
DTSTART:20261025T010000
END:STANDARD
END:VTIMEZONE
BEGIN:VEVENT
DTSTART;TZID=Europe/Amsterdam:20260123T200000
DTEND;TZID=Europe/Amsterdam:20260123T200000
DTSTAMP:20260422T015353
CREATED:20171118T204352Z
LAST-MODIFIED:20251015T133813Z
UID:31586-1769198400-1769198400@dekadolstermennekes.nl
SUMMARY:SPONSORGALA
DESCRIPTION:Zonder sponsoren geen carnaval en een carnaval zonder gala is geen carnaval! Het sponsorgala is een gala avond speciaal voor onze sponsoren. Ieder jaar weer genieten vele honderden bezoekers van het Kadolstergala\, één van de absolute hoogtepunten in de aanloop naar het carnavalsweekend. Buuts\, sketches\, zang\, dans en top entertainment staan garant voor een spetterende show. Het plaatselijke en regionale talent is maanden bezig geweest de bezoekers een onvergetelijke avond voor te schotelen. Het Sponsorgala kan enkel worden bezocht met bijbehorende kaarten uit een sponsorpakket. \nGepaste kleding is gewenst.
URL:https://dekadolstermennekes.nl/feest/sponsorgala/
LOCATION:Partycentrum Rouwhorst\, Ootmarsumsestraat 9\, Oldenzaal\, 7572 AA
ATTACH;FMTTYPE=image/jpeg:https://dekadolstermennekes.nl/wp01/wp-content/uploads/2017/11/67a89639a6e04_is8a0534-2880x1920-1-scaled.jpg
ORGANIZER;CN="OCV De Kadolstermennekes - Galacommissie":MAILTO:galacommissie@dekadolstermennekes.nl
END:VEVENT
END:VCALENDAR