BEGIN:VCALENDAR
VERSION:2.0
PRODID:-//OCV De Kadolstermennekes - ECPv6.8.3//NONSGML v1.0//EN
CALSCALE:GREGORIAN
METHOD:PUBLISH
X-WR-CALNAME:OCV De Kadolstermennekes
X-ORIGINAL-URL:https://dekadolstermennekes.nl
X-WR-CALDESC:Evenementen voor OCV De Kadolstermennekes
REFRESH-INTERVAL;VALUE=DURATION:PT1H
X-Robots-Tag:noindex
X-PUBLISHED-TTL:PT1H
BEGIN:VTIMEZONE
TZID:Europe/Amsterdam
BEGIN:DAYLIGHT
TZOFFSETFROM:+0100
TZOFFSETTO:+0200
TZNAME:CEST
DTSTART:20260329T010000
END:DAYLIGHT
BEGIN:STANDARD
TZOFFSETFROM:+0200
TZOFFSETTO:+0100
TZNAME:CET
DTSTART:20261025T010000
END:STANDARD
END:VTIMEZONE
BEGIN:VEVENT
DTSTART;TZID=Europe/Amsterdam:20260122T200000
DTEND;TZID=Europe/Amsterdam:20260122T200000
DTSTAMP:20260422T002220
CREATED:20170103T182103Z
LAST-MODIFIED:20251015T133311Z
UID:26690-1769112000-1769112000@dekadolstermennekes.nl
SUMMARY:KADOLSTER GALA PREMIÈRE
DESCRIPTION:Het is de eerste volwaardige gala-avond van OCV de Kadolstermennekes. Diverse artiesten komen deze avond op de bühne in dans- en partycentrum Rouwhorst. Na afloop van deze gala avond zal er een geweldige afterparty met artiesten zijn zoals bij de overige gala avonden ook plaats vindt. Uiteraard is er voldoende gelegenheid voor een gezellige nazit of after-party. \nCarnaval zonder gala is geen carnaval! Ieder jaar weer genieten vele honderden van het Kadolstergala\, één van de absolute hoogtepunten in de aanloop naar het carnavalsweekend. Buuts\, sketches\, zang\, dans en top entertainment staan garant voor een spetterende show. Het plaatselijke en regionale talent is maanden bezig geweest de bezoekers een onvergetelijke avond voor te schotelen. Mis dit niet\, zorg dat u er bij bent\, zodat óók u de volgende dag kunt zeggen: “Wat was het weer geweldig en wat hebben we ontzettend genoten!!” \nMaak gebruik van digitale kaartverkoop.\nAlleen leden kunnen een kaartje voor het Kadolstergala kopen. Ga naar ‘Mijn Kadolster’ via de website https://leden.dekadolstermennekes.nl/ of ga via de Kadolsterapp op je smartphone naar de drie puntjes rechts onderin. Klik hier voor meer informatie over de kaartverkoop. \nDresscode\nGepaste kleding vereist\, avondkleding is gewenst. Het gebruik van de garderobe is bij de prijs inbegrepen. \nVerkoop van kaarten aan niet leden geschiedt enkel indien er nog kaarten voorradig zijn na de verkoopavonden voor honoraire leden. \nBekijk plattegrondGa naar Mijn KadolsterInfo kaartverkoopKAARTVERKOOP KADOLSTERGALAAlleen leden kunnen een kaartje voor het Kadolstergala kopen! Alle galakaarten worden vanaf nu online via de website\, webshop en Kadolsterapp verkocht. Dit biedt meer gemak\, het gaat sneller en bespaart tijd! Hoe dat werkt\, lees je hieronder.  Er is dus geen sprake meer van een avond met fysieke kaartverkoop. Wel vindt er nog een avond plaats met hulp bij het online kopen van kaarten. Die voorlichtingsavond wordt op een later moment bekend gemaakt. Heb je de Kadolsterapp nog niet op je smartphone geïnstalleerd? Doe dat dan nu door op de linkjes van de app stores (Apple of Android) te klikken.
URL:https://dekadolstermennekes.nl/feest/kadolster-kolder-oamd/
LOCATION:Partycentrum Rouwhorst\, Ootmarsumsestraat 9\, Oldenzaal\, 7572 AA
ATTACH;FMTTYPE=image/jpeg:https://dekadolstermennekes.nl/wp01/wp-content/uploads/2017/01/67a89602dc4aa_is8a0747-2880x1920-1-scaled.jpg
ORGANIZER;CN="OCV De Kadolstermennekes - Galacommissie":MAILTO:galacommissie@dekadolstermennekes.nl
END:VEVENT
END:VCALENDAR