BEGIN:VCALENDAR
VERSION:2.0
PRODID:-//OCV De Kadolstermennekes - ECPv6.8.3//NONSGML v1.0//EN
CALSCALE:GREGORIAN
METHOD:PUBLISH
X-WR-CALNAME:OCV De Kadolstermennekes
X-ORIGINAL-URL:https://dekadolstermennekes.nl
X-WR-CALDESC:Evenementen voor OCV De Kadolstermennekes
REFRESH-INTERVAL;VALUE=DURATION:PT1H
X-Robots-Tag:noindex
X-PUBLISHED-TTL:PT1H
BEGIN:VTIMEZONE
TZID:Europe/Amsterdam
BEGIN:DAYLIGHT
TZOFFSETFROM:+0100
TZOFFSETTO:+0200
TZNAME:CEST
DTSTART:20250330T010000
END:DAYLIGHT
BEGIN:STANDARD
TZOFFSETFROM:+0200
TZOFFSETTO:+0100
TZNAME:CET
DTSTART:20251026T010000
END:STANDARD
END:VTIMEZONE
BEGIN:VEVENT
DTSTART;TZID=Europe/Amsterdam:20251111T103000
DTEND;TZID=Europe/Amsterdam:20251111T103000
DTSTAMP:20260422T034821
CREATED:20230822T123729Z
LAST-MODIFIED:20251015T134438Z
UID:53297-1762857000-1762857000@dekadolstermennekes.nl
SUMMARY:De Twentse Elfde van de Elfde
DESCRIPTION:Na twee daverende edities\, maken we ons in 2025 op voor de derde editie van de Twentse 11e van de 11e\, want op dinsdag 11 november 2025 transformeert de binnenstad van Oldenzaal tot een kleurrijk en bruisend carnavalsfestijn. Of je nu lid bent van een carnavalsvereniging of gewoon van een goed feest houdt\, iedereen is welkom. \n\n\nSamen vieren we de start van het carnavalsseizoen met muziek\, dans en heel veel gezelligheid. Ontdek later dit jaar meer over ons programma\, de locatie\, en hoe je kunt deelnemen aan deze onvergetelijke dag! \nHet feest begint rond 10.30 uur in de sfeervol aangeklede binnenstad. Net als voorgaande edities mag je je opmaken voor heel veel gezelligheid\, met livemuziek\, entertainment\, gekkigheid en gezelligheid. Rond de klok van elf start de bokprocessie en om 11.11 uur vindt de officiële aftrap van het carnavalsseizoen plaats. Geniet van de diverse blaaskapellen die door de stad trekken en doe mee aan de befaamde Elfkroegentocht. Rond 20.30 uur eindigt het straatfeest\, met een uitloop naar 21.00 uur. De echte liefhebbers kunnen daarna doorgaan in de bruisende kroegen van de Elfkroegentocht. \n\n\nProgramma\n10:30 – 21:00 – Het feestterrein is geopend!\n10:42 – 11.11 – Officiële aftrap\n11:11 – 11:15 – “Op den Elfden van den Elfden” – Robyn en Ype\n11:16 – 21:00 – Livemuziek en entertainment\n12:00 – 20:30 – Optredens van diverse blaaskapellen\n14:00 – 18.00 – Elfkroegentocht\n13:15 – 14.15 – Twents Leedkesfestival\nVanaf 20:30 – Afterparty in de kroegen\n\nKijk voor alle informatie op de website van het evenement.
URL:https://dekadolstermennekes.nl/feest/de-twentse-elfde-van-de-elfde/
LOCATION:de Groote Markt\, Groote Markt\, Oldenzaal\, Netherlands
ATTACH;FMTTYPE=image/jpeg:https://dekadolstermennekes.nl/wp01/wp-content/uploads/2023/08/481052443_122231687438019788_2136766260748015829_n-scaled.jpg
END:VEVENT
END:VCALENDAR